BEGIN:VCALENDAR
VERSION:2.0
PRODID:-//Tecport Optics - ECPv6.15.20//NONSGML v1.0//EN
CALSCALE:GREGORIAN
METHOD:PUBLISH
X-WR-CALNAME:Tecport Optics
X-ORIGINAL-URL:https://tecportoptics.com
X-WR-CALDESC:Events for Tecport Optics
REFRESH-INTERVAL;VALUE=DURATION:PT1H
X-Robots-Tag:noindex
X-PUBLISHED-TTL:PT1H
BEGIN:VTIMEZONE
TZID:America/Denver
BEGIN:DAYLIGHT
TZOFFSETFROM:-0700
TZOFFSETTO:-0600
TZNAME:MDT
DTSTART:20230312T090000
END:DAYLIGHT
BEGIN:STANDARD
TZOFFSETFROM:-0600
TZOFFSETTO:-0700
TZNAME:MST
DTSTART:20231105T080000
END:STANDARD
BEGIN:DAYLIGHT
TZOFFSETFROM:-0700
TZOFFSETTO:-0600
TZNAME:MDT
DTSTART:20240310T090000
END:DAYLIGHT
BEGIN:STANDARD
TZOFFSETFROM:-0600
TZOFFSETTO:-0700
TZNAME:MST
DTSTART:20241103T080000
END:STANDARD
BEGIN:DAYLIGHT
TZOFFSETFROM:-0700
TZOFFSETTO:-0600
TZNAME:MDT
DTSTART:20250309T090000
END:DAYLIGHT
BEGIN:STANDARD
TZOFFSETFROM:-0600
TZOFFSETTO:-0700
TZNAME:MST
DTSTART:20251102T080000
END:STANDARD
END:VTIMEZONE
BEGIN:VTIMEZONE
TZID:America/New_York
BEGIN:DAYLIGHT
TZOFFSETFROM:-0500
TZOFFSETTO:-0400
TZNAME:EDT
DTSTART:20230312T070000
END:DAYLIGHT
BEGIN:STANDARD
TZOFFSETFROM:-0400
TZOFFSETTO:-0500
TZNAME:EST
DTSTART:20231105T060000
END:STANDARD
BEGIN:DAYLIGHT
TZOFFSETFROM:-0500
TZOFFSETTO:-0400
TZNAME:EDT
DTSTART:20240310T070000
END:DAYLIGHT
BEGIN:STANDARD
TZOFFSETFROM:-0400
TZOFFSETTO:-0500
TZNAME:EST
DTSTART:20241103T060000
END:STANDARD
BEGIN:DAYLIGHT
TZOFFSETFROM:-0500
TZOFFSETTO:-0400
TZNAME:EDT
DTSTART:20250309T070000
END:DAYLIGHT
BEGIN:STANDARD
TZOFFSETFROM:-0400
TZOFFSETTO:-0500
TZNAME:EST
DTSTART:20251102T060000
END:STANDARD
END:VTIMEZONE
BEGIN:VEVENT
DTSTART;VALUE=DATE:20240924
DTEND;VALUE=DATE:20240928
DTSTAMP:20260420T060818
CREATED:20200824T141939Z
LAST-MODIFIED:20240516T213157Z
UID:2136-1727136000-1727481599@tecportoptics.com
SUMMARY:Optica Frontiers in Optics + Laser Science
DESCRIPTION:The Frontiers in Optics + Laser Science (FIO + LS) conference and exhibition features the latest in optics and photonics research and technology.
URL:https://tecportoptics.com/event/frontiers-in-optics/
LOCATION:FiO + LS Website\, DC
ATTACH;FMTTYPE=image/webp:https://tecportoptics.com/wp-content/uploads/2018/09/logo_fio17_letters_fullname-01.png
END:VEVENT
BEGIN:VEVENT
DTSTART;VALUE=DATE:20240916
DTEND;VALUE=DATE:20240920
DTSTAMP:20260420T060818
CREATED:20200824T152620Z
LAST-MODIFIED:20240516T210347Z
UID:2133-1726444800-1726790399@tecportoptics.com
SUMMARY:SPIE Optics & Photonics
DESCRIPTION:The premier event for optical engineering and applications\, nanotechnology\, quantum science\, and organic photonics.
URL:https://tecportoptics.com/event/spie-optics-photonics/
LOCATION:Online Digital Forum – Online Only
ATTACH;FMTTYPE=image/webp:https://tecportoptics.com/wp-content/uploads/2018/09/spie-optics-and-photonics.webp
END:VEVENT
BEGIN:VEVENT
DTSTART;TZID=America/New_York:20240514T080000
DTEND;TZID=America/New_York:20240516T170000
DTSTAMP:20260420T060818
CREATED:20221018T040033Z
LAST-MODIFIED:20240603T150224Z
UID:26867-1715673600-1715878800@tecportoptics.com
SUMMARY:Schall Optatec
DESCRIPTION:Join us for the 2024 edition of Optatec\, the international trade fair for optical technologies\, components\, and systems! We will be showcasing all of our products and showing potential clients all of our ways to best serve you for all your coating needs.
URL:https://tecportoptics.com/event/optatec2022/
LOCATION:Messe Frankfurt GmbH\, Ludwig-Erhard-Anlage 1\, Frankfurt\, am Maine\, 60327\, Germany
END:VEVENT
BEGIN:VEVENT
DTSTART;TZID=America/New_York:20240507T080000
DTEND;TZID=America/New_York:20240508T170000
DTSTAMP:20260420T060818
CREATED:20230404T213846Z
LAST-MODIFIED:20240516T210231Z
UID:28088-1715068800-1715187600@tecportoptics.com
SUMMARY:SVC Tech Con 2023
DESCRIPTION:Join us at our booth for the 66th Annual Society of Vacuum Coaters TechCon at the Gaylord National Resort & Convention Center in Washington\, D.C. from May 6-11\, 2023!
URL:https://tecportoptics.com/event/svc-tech-con-2023/
END:VEVENT
BEGIN:VEVENT
DTSTART;VALUE=DATE:20240505
DTEND;VALUE=DATE:20240511
DTSTAMP:20260420T060818
CREATED:20210909T121411Z
LAST-MODIFIED:20240516T210909Z
UID:2160-1714867200-1715385599@tecportoptics.com
SUMMARY:CLEO
DESCRIPTION:CLEO’s world-renowned technical program is a showcase for leading research and applications in a number of fields\, from biophotonics to advanced manufacturing\, telecommunications\, and autonomous vehicles industry.
URL:https://tecportoptics.com/event/cleo/
LOCATION:San Jose McEnery Convention Center\, 150 W San Carlos St\, San Jose\, 95113
ATTACH;FMTTYPE=image/webp:https://tecportoptics.com/wp-content/uploads/2021/09/logo-cleo-2017.png
END:VEVENT
END:VCALENDAR